BEGIN:VCALENDAR
VERSION:2.0
PRODID:-//St. Anthony&#039;s Parish - ECPv6.15.18//NONSGML v1.0//EN
CALSCALE:GREGORIAN
METHOD:PUBLISH
X-WR-CALNAME:St. Anthony&#039;s Parish
X-ORIGINAL-URL:https://sawv.ca
X-WR-CALDESC:Events for St. Anthony&#039;s Parish
REFRESH-INTERVAL;VALUE=DURATION:PT1H
X-Robots-Tag:noindex
X-PUBLISHED-TTL:PT1H
BEGIN:VTIMEZONE
TZID:America/Los_Angeles
BEGIN:DAYLIGHT
TZOFFSETFROM:-0800
TZOFFSETTO:-0700
TZNAME:PDT
DTSTART:20230312T100000
END:DAYLIGHT
BEGIN:STANDARD
TZOFFSETFROM:-0700
TZOFFSETTO:-0800
TZNAME:PST
DTSTART:20231105T090000
END:STANDARD
BEGIN:DAYLIGHT
TZOFFSETFROM:-0800
TZOFFSETTO:-0700
TZNAME:PDT
DTSTART:20240310T100000
END:DAYLIGHT
BEGIN:STANDARD
TZOFFSETFROM:-0700
TZOFFSETTO:-0800
TZNAME:PST
DTSTART:20241103T090000
END:STANDARD
BEGIN:DAYLIGHT
TZOFFSETFROM:-0800
TZOFFSETTO:-0700
TZNAME:PDT
DTSTART:20250309T100000
END:DAYLIGHT
BEGIN:STANDARD
TZOFFSETFROM:-0700
TZOFFSETTO:-0800
TZNAME:PST
DTSTART:20251102T090000
END:STANDARD
BEGIN:DAYLIGHT
TZOFFSETFROM:-0800
TZOFFSETTO:-0700
TZNAME:PDT
DTSTART:20260308T100000
END:DAYLIGHT
BEGIN:STANDARD
TZOFFSETFROM:-0700
TZOFFSETTO:-0800
TZNAME:PST
DTSTART:20261101T090000
END:STANDARD
BEGIN:DAYLIGHT
TZOFFSETFROM:-0800
TZOFFSETTO:-0700
TZNAME:PDT
DTSTART:20270314T100000
END:DAYLIGHT
BEGIN:STANDARD
TZOFFSETFROM:-0700
TZOFFSETTO:-0800
TZNAME:PST
DTSTART:20271107T090000
END:STANDARD
END:VTIMEZONE
BEGIN:VEVENT
DTSTART;TZID=America/Los_Angeles:20260414T190000
DTEND;TZID=America/Los_Angeles:20260414T200000
DTSTAMP:20260419T151750
CREATED:20250420T025641Z
LAST-MODIFIED:20251213T014253Z
UID:10009457-1776193200-1776196800@sawv.ca
SUMMARY:Christian Silent Meditation
DESCRIPTION:Starting date: Tuesday—September 23rd at 7:00 PM. \nThe weekly Saint Anthony’s Christian Meditation group will meet again! \nPre-recorded 10 minute talk by Benedictines Fr. John Main or Fr. Laurence Freeman\, a 25 minute silent meditation followed by time for questions and comments. For information contact JoAnn or Leo or visit http://wccm.org \n 
URL:https://sawv.ca/event/christian-silent-meditation-3-3/2026-04-14/
LOCATION:St Anthony’s Parish\, 2347 Inglewood Avenue\, West Vancouver\, British Columbia
CATEGORIES:Christian Silent Meditation
ATTACH;FMTTYPE=image/jpeg:https://sawv.ca/wp-content/uploads/2023/11/Canadian-Christian-Meditation-Community.jpeg
END:VEVENT
BEGIN:VEVENT
DTSTART;VALUE=DATE:20251224
DTEND;VALUE=DATE:20260102
DTSTAMP:20260419T151750
CREATED:20241215T040016Z
LAST-MODIFIED:20251213T015435Z
UID:10008926-1766534400-1767311999@sawv.ca
SUMMARY:Christmas and New Year Mass
DESCRIPTION:As we approach the joyful season of Christmas\, we invite you to come together in faith and celebrate the birth of our Savior at St. Anthony’s. Please join us for our special mass services as we share in the love\, joy\, and hope that this Holy Christmas season brings. We invite you to celebrate these sacred times with us and to bring your family and friends to experience the peace and love of Christ’s birth. \nWe also prepare to welcome the New Year to reflect and give thanks. \nWhether you are attending Mass for the first time or have been with us for years\, we welcome you with open arms. \nChristmas Eve Mass (December 24th\, Wednesday) \n4:30 PM                 10:00 PM \nChristmas Day Mass (December 25th\, Thursday) \n8:30 AM                10:30 AM \nHoly Family Sunday Mass  \n4:30 PM (December 27th\, Saturday) \n8:30 AM               10:30 AM (December 28th\, Sunday) \nSolemnity of Mary\, Mother of God Mass \n4:30 PM (December 31st\, Wednesday) \n8:30 AM               10:30 AM (January 1st\, Thursday)
URL:https://sawv.ca/event/christmas-mass/
LOCATION:St Anthony’s Parish\, 2347 Inglewood Avenue\, West Vancouver\, British Columbia
CATEGORIES:Event
ATTACH;FMTTYPE=image/jpeg:https://sawv.ca/wp-content/uploads/2024/05/Nativity-display.jpg
END:VEVENT
BEGIN:VEVENT
DTSTART;TZID=America/Los_Angeles:20250907T160000
DTEND;TZID=America/Los_Angeles:20250907T190000
DTSTAMP:20260419T151750
CREATED:20240704T022100Z
LAST-MODIFIED:20250902T004738Z
UID:10007694-1757260800-1757271600@sawv.ca
SUMMARY:Parish Picnic
DESCRIPTION:Our annual picnic will take place on Sunday Sept 7th\, 4-7 PM. \nSign up in the foyer for attendance and/or volunteering…. \nEveryone is invited !! \nDessert Contest at the Parish Picnic – bring your favorite homemade dessert.
URL:https://sawv.ca/event/parish-picnic/
LOCATION:St Anthony’s Parish\, 2347 Inglewood Avenue\, West Vancouver\, British Columbia
CATEGORIES:Event
ATTACH;FMTTYPE=image/png:https://sawv.ca/wp-content/uploads/2025/05/Screen-Shot-2025-05-31-at-11.32.23-AM.png
END:VEVENT
BEGIN:VEVENT
DTSTART;VALUE=DATE:20250503
DTEND;VALUE=DATE:20250505
DTSTAMP:20260419T151750
CREATED:20241125T185450Z
LAST-MODIFIED:20250503T210948Z
UID:10008903-1746230400-1746403199@sawv.ca
SUMMARY:Spring Craft Fair
DESCRIPTION:Saturday\, May 3 and Sunday\, May 4 after mass. Saint Anthony’s Craft Group is holding their Spring Fair. There will be baking\, plants\, jewelry\, baby items\, cards and a silent auction for a needlepoint Madonna. Be sure to Come to the Fair to enjoy all the wonderful offerings. Let family and friends know…..Mother’s Day is just around the corner.
URL:https://sawv.ca/event/christmas-craft-fair/
LOCATION:St Anthony’s Parish\, 2347 Inglewood Avenue\, West Vancouver\, British Columbia
CATEGORIES:Event
ATTACH;FMTTYPE=image/jpeg:https://sawv.ca/wp-content/uploads/2024/05/Craft-Sale.jpg
END:VEVENT
BEGIN:VEVENT
DTSTART;TZID=America/Los_Angeles:20241217T190000
DTEND;TZID=America/Los_Angeles:20241217T200000
DTSTAMP:20260419T151750
CREATED:20240902T181615Z
LAST-MODIFIED:20241215T045012Z
UID:10005254-1734462000-1734465600@sawv.ca
SUMMARY:Christian Silent Meditation
DESCRIPTION:The format is a pre-recorded 10 minute talk by Benedictines Fr. John Main or Fr. Laurence Freeman\, a 25 minute meditation followed by time for questions/ comments. \nAll are welcome!
URL:https://sawv.ca/event/christian-silent-meditation-2/2024-12-17/
LOCATION:St Anthony’s Parish\, 2347 Inglewood Avenue\, West Vancouver\, British Columbia
CATEGORIES:Christian Silent Meditation
END:VEVENT
BEGIN:VEVENT
DTSTART;TZID=America/Los_Angeles:20241123T100000
DTEND;TZID=America/Los_Angeles:20241123T120000
DTSTAMP:20260419T151750
CREATED:20240908T002506Z
LAST-MODIFIED:20241209T010459Z
UID:10008900-1732356000-1732363200@sawv.ca
SUMMARY:Rescue at St. Anthony's
DESCRIPTION:Rescue …  what if there is a different story? \nAn eight week small group experience of the Gospel surrounded by food\, conversation and prayer. For more information: Rescue \nStarting Saturday\, October 5 from 10:00 am to 12:00 noon. \nTo register: Register \nAll 16+ and adults are welcome!
URL:https://sawv.ca/event/rescue-is-coming-to-st-anthonys/2024-11-23/
LOCATION:St Anthony’s Parish\, 2347 Inglewood Avenue\, West Vancouver\, British Columbia
CATEGORIES:Event
ATTACH;FMTTYPE=image/jpeg:https://sawv.ca/wp-content/uploads/2024/09/Rescue-Project-2.jpeg
END:VEVENT
END:VCALENDAR