BEGIN:VCALENDAR
VERSION:2.0
PRODID:-//St. Anthony&#039;s Parish - ECPv6.15.18//NONSGML v1.0//EN
CALSCALE:GREGORIAN
METHOD:PUBLISH
X-WR-CALNAME:St. Anthony&#039;s Parish
X-ORIGINAL-URL:https://sawv.ca
X-WR-CALDESC:Events for St. Anthony&#039;s Parish
REFRESH-INTERVAL;VALUE=DURATION:PT1H
X-Robots-Tag:noindex
X-PUBLISHED-TTL:PT1H
BEGIN:VTIMEZONE
TZID:America/Los_Angeles
BEGIN:DAYLIGHT
TZOFFSETFROM:-0800
TZOFFSETTO:-0700
TZNAME:PDT
DTSTART:20230312T100000
END:DAYLIGHT
BEGIN:STANDARD
TZOFFSETFROM:-0700
TZOFFSETTO:-0800
TZNAME:PST
DTSTART:20231105T090000
END:STANDARD
BEGIN:DAYLIGHT
TZOFFSETFROM:-0800
TZOFFSETTO:-0700
TZNAME:PDT
DTSTART:20240310T100000
END:DAYLIGHT
BEGIN:STANDARD
TZOFFSETFROM:-0700
TZOFFSETTO:-0800
TZNAME:PST
DTSTART:20241103T090000
END:STANDARD
BEGIN:DAYLIGHT
TZOFFSETFROM:-0800
TZOFFSETTO:-0700
TZNAME:PDT
DTSTART:20250309T100000
END:DAYLIGHT
BEGIN:STANDARD
TZOFFSETFROM:-0700
TZOFFSETTO:-0800
TZNAME:PST
DTSTART:20251102T090000
END:STANDARD
END:VTIMEZONE
BEGIN:VEVENT
DTSTART;TZID=America/Los_Angeles:20240702T190000
DTEND;TZID=America/Los_Angeles:20240702T200000
DTSTAMP:20260419T080208
CREATED:20240529T221406Z
LAST-MODIFIED:20241209T005327Z
UID:10005230-1719946800-1719950400@sawv.ca
SUMMARY:Christian Silent Meditation
DESCRIPTION:
URL:https://sawv.ca/event/christian-silent-meditation/2024-07-02/
CATEGORIES:Christian Silent Meditation
END:VEVENT
BEGIN:VEVENT
DTSTART;TZID=America/Los_Angeles:20240709T190000
DTEND;TZID=America/Los_Angeles:20240709T200000
DTSTAMP:20260419T080208
CREATED:20240529T221406Z
LAST-MODIFIED:20241209T005327Z
UID:10005231-1720551600-1720555200@sawv.ca
SUMMARY:Christian Silent Meditation
DESCRIPTION:
URL:https://sawv.ca/event/christian-silent-meditation/2024-07-09/
CATEGORIES:Christian Silent Meditation
END:VEVENT
BEGIN:VEVENT
DTSTART;TZID=America/Los_Angeles:20240716T190000
DTEND;TZID=America/Los_Angeles:20240716T200000
DTSTAMP:20260419T080208
CREATED:20240529T221406Z
LAST-MODIFIED:20241209T005327Z
UID:10005232-1721156400-1721160000@sawv.ca
SUMMARY:Christian Silent Meditation
DESCRIPTION:
URL:https://sawv.ca/event/christian-silent-meditation/2024-07-16/
CATEGORIES:Christian Silent Meditation
END:VEVENT
BEGIN:VEVENT
DTSTART;TZID=America/Los_Angeles:20240723T190000
DTEND;TZID=America/Los_Angeles:20240723T200000
DTSTAMP:20260419T080208
CREATED:20240529T221406Z
LAST-MODIFIED:20241209T005327Z
UID:10005233-1721761200-1721764800@sawv.ca
SUMMARY:Christian Silent Meditation
DESCRIPTION:
URL:https://sawv.ca/event/christian-silent-meditation/2024-07-23/
CATEGORIES:Christian Silent Meditation
END:VEVENT
BEGIN:VEVENT
DTSTART;TZID=America/Los_Angeles:20240730T190000
DTEND;TZID=America/Los_Angeles:20240730T200000
DTSTAMP:20260419T080208
CREATED:20240529T221406Z
LAST-MODIFIED:20241209T005327Z
UID:10005234-1722366000-1722369600@sawv.ca
SUMMARY:Christian Silent Meditation
DESCRIPTION:
URL:https://sawv.ca/event/christian-silent-meditation/2024-07-30/
CATEGORIES:Christian Silent Meditation
END:VEVENT
END:VCALENDAR