BEGIN:VCALENDAR
VERSION:2.0
PRODID:-//St. Anthony&#039;s Parish - ECPv6.15.18//NONSGML v1.0//EN
CALSCALE:GREGORIAN
METHOD:PUBLISH
X-WR-CALNAME:St. Anthony&#039;s Parish
X-ORIGINAL-URL:https://sawv.ca
X-WR-CALDESC:Events for St. Anthony&#039;s Parish
REFRESH-INTERVAL;VALUE=DURATION:PT1H
X-Robots-Tag:noindex
X-PUBLISHED-TTL:PT1H
BEGIN:VTIMEZONE
TZID:America/Los_Angeles
BEGIN:DAYLIGHT
TZOFFSETFROM:-0800
TZOFFSETTO:-0700
TZNAME:PDT
DTSTART:20230312T100000
END:DAYLIGHT
BEGIN:STANDARD
TZOFFSETFROM:-0700
TZOFFSETTO:-0800
TZNAME:PST
DTSTART:20231105T090000
END:STANDARD
BEGIN:DAYLIGHT
TZOFFSETFROM:-0800
TZOFFSETTO:-0700
TZNAME:PDT
DTSTART:20240310T100000
END:DAYLIGHT
BEGIN:STANDARD
TZOFFSETFROM:-0700
TZOFFSETTO:-0800
TZNAME:PST
DTSTART:20241103T090000
END:STANDARD
BEGIN:DAYLIGHT
TZOFFSETFROM:-0800
TZOFFSETTO:-0700
TZNAME:PDT
DTSTART:20250309T100000
END:DAYLIGHT
BEGIN:STANDARD
TZOFFSETFROM:-0700
TZOFFSETTO:-0800
TZNAME:PST
DTSTART:20251102T090000
END:STANDARD
END:VTIMEZONE
BEGIN:VEVENT
DTSTART;TZID=America/Los_Angeles:20240604T190000
DTEND;TZID=America/Los_Angeles:20240604T200000
DTSTAMP:20260419T092759
CREATED:20240529T221406Z
LAST-MODIFIED:20241209T005327Z
UID:10005226-1717527600-1717531200@sawv.ca
SUMMARY:Christian Silent Meditation
DESCRIPTION:
URL:https://sawv.ca/event/christian-silent-meditation/2024-06-04/
CATEGORIES:Christian Silent Meditation
END:VEVENT
BEGIN:VEVENT
DTSTART;TZID=America/Los_Angeles:20240611T190000
DTEND;TZID=America/Los_Angeles:20240611T200000
DTSTAMP:20260419T092759
CREATED:20240529T221406Z
LAST-MODIFIED:20241209T005327Z
UID:10005227-1718132400-1718136000@sawv.ca
SUMMARY:Christian Silent Meditation
DESCRIPTION:
URL:https://sawv.ca/event/christian-silent-meditation/2024-06-11/
CATEGORIES:Christian Silent Meditation
END:VEVENT
BEGIN:VEVENT
DTSTART;TZID=America/Los_Angeles:20240618T190000
DTEND;TZID=America/Los_Angeles:20240618T200000
DTSTAMP:20260419T092759
CREATED:20240529T221406Z
LAST-MODIFIED:20241209T005327Z
UID:10005228-1718737200-1718740800@sawv.ca
SUMMARY:Christian Silent Meditation
DESCRIPTION:
URL:https://sawv.ca/event/christian-silent-meditation/2024-06-18/
CATEGORIES:Christian Silent Meditation
END:VEVENT
BEGIN:VEVENT
DTSTART;TZID=America/Los_Angeles:20240625T190000
DTEND;TZID=America/Los_Angeles:20240625T200000
DTSTAMP:20260419T092759
CREATED:20240529T221406Z
LAST-MODIFIED:20241209T005327Z
UID:10005229-1719342000-1719345600@sawv.ca
SUMMARY:Christian Silent Meditation
DESCRIPTION:
URL:https://sawv.ca/event/christian-silent-meditation/2024-06-25/
CATEGORIES:Christian Silent Meditation
END:VEVENT
END:VCALENDAR