BEGIN:VCALENDAR
VERSION:2.0
PRODID:-//St. Anthony&#039;s Parish - ECPv6.15.18//NONSGML v1.0//EN
CALSCALE:GREGORIAN
METHOD:PUBLISH
X-WR-CALNAME:St. Anthony&#039;s Parish
X-ORIGINAL-URL:https://sawv.ca
X-WR-CALDESC:Events for St. Anthony&#039;s Parish
REFRESH-INTERVAL;VALUE=DURATION:PT1H
X-Robots-Tag:noindex
X-PUBLISHED-TTL:PT1H
BEGIN:VTIMEZONE
TZID:America/Los_Angeles
BEGIN:DAYLIGHT
TZOFFSETFROM:-0800
TZOFFSETTO:-0700
TZNAME:PDT
DTSTART:20250309T100000
END:DAYLIGHT
BEGIN:STANDARD
TZOFFSETFROM:-0700
TZOFFSETTO:-0800
TZNAME:PST
DTSTART:20251102T090000
END:STANDARD
BEGIN:DAYLIGHT
TZOFFSETFROM:-0800
TZOFFSETTO:-0700
TZNAME:PDT
DTSTART:20260308T100000
END:DAYLIGHT
BEGIN:STANDARD
TZOFFSETFROM:-0700
TZOFFSETTO:-0800
TZNAME:PST
DTSTART:20261101T090000
END:STANDARD
BEGIN:DAYLIGHT
TZOFFSETFROM:-0800
TZOFFSETTO:-0700
TZNAME:PDT
DTSTART:20270314T100000
END:DAYLIGHT
BEGIN:STANDARD
TZOFFSETFROM:-0700
TZOFFSETTO:-0800
TZNAME:PST
DTSTART:20271107T090000
END:STANDARD
END:VTIMEZONE
BEGIN:VEVENT
DTSTART;TZID=America/Los_Angeles:20260420T100000
DTEND;TZID=America/Los_Angeles:20260420T120000
DTSTAMP:20260419T080324
CREATED:20250922T171048Z
LAST-MODIFIED:20251213T014046Z
UID:10010931-1776679200-1776686400@sawv.ca
SUMMARY:Catholic Faith in Plain English
DESCRIPTION:A free\, no pressure\, plain English 36 week course taught by Fr. Hawkswell and Maureen Creelman. \nCatholics and non-Catholics are welcome to attend. \nJoin us every Monday 10:00am – 12:00pm
URL:https://sawv.ca/event/catholic-faith-in-plain-english-2-4/2026-04-20/
CATEGORIES:Catholic Faith in Plain English
ATTACH;FMTTYPE=image/jpeg:https://sawv.ca/wp-content/uploads/2024/07/tim-wildsmith-kn6uepbHKYU-unsplash-scaled.jpg
END:VEVENT
BEGIN:VEVENT
DTSTART;TZID=America/Los_Angeles:20260427T100000
DTEND;TZID=America/Los_Angeles:20260427T120000
DTSTAMP:20260419T080324
CREATED:20250922T171048Z
LAST-MODIFIED:20251213T014046Z
UID:10010932-1777284000-1777291200@sawv.ca
SUMMARY:Catholic Faith in Plain English
DESCRIPTION:A free\, no pressure\, plain English 36 week course taught by Fr. Hawkswell and Maureen Creelman. \nCatholics and non-Catholics are welcome to attend. \nJoin us every Monday 10:00am – 12:00pm
URL:https://sawv.ca/event/catholic-faith-in-plain-english-2-4/2026-04-27/
CATEGORIES:Catholic Faith in Plain English
ATTACH;FMTTYPE=image/jpeg:https://sawv.ca/wp-content/uploads/2024/07/tim-wildsmith-kn6uepbHKYU-unsplash-scaled.jpg
END:VEVENT
BEGIN:VEVENT
DTSTART;TZID=America/Los_Angeles:20260504T100000
DTEND;TZID=America/Los_Angeles:20260504T120000
DTSTAMP:20260419T080324
CREATED:20250922T171048Z
LAST-MODIFIED:20251213T014046Z
UID:10010933-1777888800-1777896000@sawv.ca
SUMMARY:Catholic Faith in Plain English
DESCRIPTION:A free\, no pressure\, plain English 36 week course taught by Fr. Hawkswell and Maureen Creelman. \nCatholics and non-Catholics are welcome to attend. \nJoin us every Monday 10:00am – 12:00pm
URL:https://sawv.ca/event/catholic-faith-in-plain-english-2-4/2026-05-04/
CATEGORIES:Catholic Faith in Plain English
ATTACH;FMTTYPE=image/jpeg:https://sawv.ca/wp-content/uploads/2024/07/tim-wildsmith-kn6uepbHKYU-unsplash-scaled.jpg
END:VEVENT
BEGIN:VEVENT
DTSTART;TZID=America/Los_Angeles:20260511T100000
DTEND;TZID=America/Los_Angeles:20260511T120000
DTSTAMP:20260419T080324
CREATED:20250922T171048Z
LAST-MODIFIED:20251213T014046Z
UID:10010934-1778493600-1778500800@sawv.ca
SUMMARY:Catholic Faith in Plain English
DESCRIPTION:A free\, no pressure\, plain English 36 week course taught by Fr. Hawkswell and Maureen Creelman. \nCatholics and non-Catholics are welcome to attend. \nJoin us every Monday 10:00am – 12:00pm
URL:https://sawv.ca/event/catholic-faith-in-plain-english-2-4/2026-05-11/
CATEGORIES:Catholic Faith in Plain English
ATTACH;FMTTYPE=image/jpeg:https://sawv.ca/wp-content/uploads/2024/07/tim-wildsmith-kn6uepbHKYU-unsplash-scaled.jpg
END:VEVENT
BEGIN:VEVENT
DTSTART;TZID=America/Los_Angeles:20260518T100000
DTEND;TZID=America/Los_Angeles:20260518T120000
DTSTAMP:20260419T080324
CREATED:20250922T171048Z
LAST-MODIFIED:20251213T014046Z
UID:10010935-1779098400-1779105600@sawv.ca
SUMMARY:Catholic Faith in Plain English
DESCRIPTION:A free\, no pressure\, plain English 36 week course taught by Fr. Hawkswell and Maureen Creelman. \nCatholics and non-Catholics are welcome to attend. \nJoin us every Monday 10:00am – 12:00pm
URL:https://sawv.ca/event/catholic-faith-in-plain-english-2-4/2026-05-18/
CATEGORIES:Catholic Faith in Plain English
ATTACH;FMTTYPE=image/jpeg:https://sawv.ca/wp-content/uploads/2024/07/tim-wildsmith-kn6uepbHKYU-unsplash-scaled.jpg
END:VEVENT
BEGIN:VEVENT
DTSTART;TZID=America/Los_Angeles:20260525T100000
DTEND;TZID=America/Los_Angeles:20260525T120000
DTSTAMP:20260419T080324
CREATED:20250922T171048Z
LAST-MODIFIED:20251213T014046Z
UID:10010936-1779703200-1779710400@sawv.ca
SUMMARY:Catholic Faith in Plain English
DESCRIPTION:A free\, no pressure\, plain English 36 week course taught by Fr. Hawkswell and Maureen Creelman. \nCatholics and non-Catholics are welcome to attend. \nJoin us every Monday 10:00am – 12:00pm
URL:https://sawv.ca/event/catholic-faith-in-plain-english-2-4/2026-05-25/
CATEGORIES:Catholic Faith in Plain English
ATTACH;FMTTYPE=image/jpeg:https://sawv.ca/wp-content/uploads/2024/07/tim-wildsmith-kn6uepbHKYU-unsplash-scaled.jpg
END:VEVENT
BEGIN:VEVENT
DTSTART;TZID=America/Los_Angeles:20260601T100000
DTEND;TZID=America/Los_Angeles:20260601T120000
DTSTAMP:20260419T080324
CREATED:20250922T171048Z
LAST-MODIFIED:20251213T014046Z
UID:10010937-1780308000-1780315200@sawv.ca
SUMMARY:Catholic Faith in Plain English
DESCRIPTION:A free\, no pressure\, plain English 36 week course taught by Fr. Hawkswell and Maureen Creelman. \nCatholics and non-Catholics are welcome to attend. \nJoin us every Monday 10:00am – 12:00pm
URL:https://sawv.ca/event/catholic-faith-in-plain-english-2-4/2026-06-01/
CATEGORIES:Catholic Faith in Plain English
ATTACH;FMTTYPE=image/jpeg:https://sawv.ca/wp-content/uploads/2024/07/tim-wildsmith-kn6uepbHKYU-unsplash-scaled.jpg
END:VEVENT
BEGIN:VEVENT
DTSTART;TZID=America/Los_Angeles:20260608T100000
DTEND;TZID=America/Los_Angeles:20260608T120000
DTSTAMP:20260419T080324
CREATED:20250922T171048Z
LAST-MODIFIED:20251213T014046Z
UID:10010938-1780912800-1780920000@sawv.ca
SUMMARY:Catholic Faith in Plain English
DESCRIPTION:A free\, no pressure\, plain English 36 week course taught by Fr. Hawkswell and Maureen Creelman. \nCatholics and non-Catholics are welcome to attend. \nJoin us every Monday 10:00am – 12:00pm
URL:https://sawv.ca/event/catholic-faith-in-plain-english-2-4/2026-06-08/
CATEGORIES:Catholic Faith in Plain English
ATTACH;FMTTYPE=image/jpeg:https://sawv.ca/wp-content/uploads/2024/07/tim-wildsmith-kn6uepbHKYU-unsplash-scaled.jpg
END:VEVENT
BEGIN:VEVENT
DTSTART;TZID=America/Los_Angeles:20260615T100000
DTEND;TZID=America/Los_Angeles:20260615T120000
DTSTAMP:20260419T080324
CREATED:20250922T171048Z
LAST-MODIFIED:20251213T014046Z
UID:10010939-1781517600-1781524800@sawv.ca
SUMMARY:Catholic Faith in Plain English
DESCRIPTION:A free\, no pressure\, plain English 36 week course taught by Fr. Hawkswell and Maureen Creelman. \nCatholics and non-Catholics are welcome to attend. \nJoin us every Monday 10:00am – 12:00pm
URL:https://sawv.ca/event/catholic-faith-in-plain-english-2-4/2026-06-15/
CATEGORIES:Catholic Faith in Plain English
ATTACH;FMTTYPE=image/jpeg:https://sawv.ca/wp-content/uploads/2024/07/tim-wildsmith-kn6uepbHKYU-unsplash-scaled.jpg
END:VEVENT
BEGIN:VEVENT
DTSTART;TZID=America/Los_Angeles:20260622T100000
DTEND;TZID=America/Los_Angeles:20260622T120000
DTSTAMP:20260419T080324
CREATED:20250922T171048Z
LAST-MODIFIED:20251213T014046Z
UID:10010940-1782122400-1782129600@sawv.ca
SUMMARY:Catholic Faith in Plain English
DESCRIPTION:A free\, no pressure\, plain English 36 week course taught by Fr. Hawkswell and Maureen Creelman. \nCatholics and non-Catholics are welcome to attend. \nJoin us every Monday 10:00am – 12:00pm
URL:https://sawv.ca/event/catholic-faith-in-plain-english-2-4/2026-06-22/
CATEGORIES:Catholic Faith in Plain English
ATTACH;FMTTYPE=image/jpeg:https://sawv.ca/wp-content/uploads/2024/07/tim-wildsmith-kn6uepbHKYU-unsplash-scaled.jpg
END:VEVENT
BEGIN:VEVENT
DTSTART;TZID=America/Los_Angeles:20260629T100000
DTEND;TZID=America/Los_Angeles:20260629T120000
DTSTAMP:20260419T080324
CREATED:20250922T171048Z
LAST-MODIFIED:20251213T014046Z
UID:10010941-1782727200-1782734400@sawv.ca
SUMMARY:Catholic Faith in Plain English
DESCRIPTION:A free\, no pressure\, plain English 36 week course taught by Fr. Hawkswell and Maureen Creelman. \nCatholics and non-Catholics are welcome to attend. \nJoin us every Monday 10:00am – 12:00pm
URL:https://sawv.ca/event/catholic-faith-in-plain-english-2-4/2026-06-29/
CATEGORIES:Catholic Faith in Plain English
ATTACH;FMTTYPE=image/jpeg:https://sawv.ca/wp-content/uploads/2024/07/tim-wildsmith-kn6uepbHKYU-unsplash-scaled.jpg
END:VEVENT
BEGIN:VEVENT
DTSTART;TZID=America/Los_Angeles:20260706T100000
DTEND;TZID=America/Los_Angeles:20260706T120000
DTSTAMP:20260419T080324
CREATED:20250922T171048Z
LAST-MODIFIED:20251213T014046Z
UID:10010942-1783332000-1783339200@sawv.ca
SUMMARY:Catholic Faith in Plain English
DESCRIPTION:A free\, no pressure\, plain English 36 week course taught by Fr. Hawkswell and Maureen Creelman. \nCatholics and non-Catholics are welcome to attend. \nJoin us every Monday 10:00am – 12:00pm
URL:https://sawv.ca/event/catholic-faith-in-plain-english-2-4/2026-07-06/
CATEGORIES:Catholic Faith in Plain English
ATTACH;FMTTYPE=image/jpeg:https://sawv.ca/wp-content/uploads/2024/07/tim-wildsmith-kn6uepbHKYU-unsplash-scaled.jpg
END:VEVENT
BEGIN:VEVENT
DTSTART;TZID=America/Los_Angeles:20260713T100000
DTEND;TZID=America/Los_Angeles:20260713T120000
DTSTAMP:20260419T080324
CREATED:20250922T171048Z
LAST-MODIFIED:20251213T014046Z
UID:10010943-1783936800-1783944000@sawv.ca
SUMMARY:Catholic Faith in Plain English
DESCRIPTION:A free\, no pressure\, plain English 36 week course taught by Fr. Hawkswell and Maureen Creelman. \nCatholics and non-Catholics are welcome to attend. \nJoin us every Monday 10:00am – 12:00pm
URL:https://sawv.ca/event/catholic-faith-in-plain-english-2-4/2026-07-13/
CATEGORIES:Catholic Faith in Plain English
ATTACH;FMTTYPE=image/jpeg:https://sawv.ca/wp-content/uploads/2024/07/tim-wildsmith-kn6uepbHKYU-unsplash-scaled.jpg
END:VEVENT
BEGIN:VEVENT
DTSTART;TZID=America/Los_Angeles:20260720T100000
DTEND;TZID=America/Los_Angeles:20260720T120000
DTSTAMP:20260419T080324
CREATED:20250922T171048Z
LAST-MODIFIED:20251213T014046Z
UID:10010944-1784541600-1784548800@sawv.ca
SUMMARY:Catholic Faith in Plain English
DESCRIPTION:A free\, no pressure\, plain English 36 week course taught by Fr. Hawkswell and Maureen Creelman. \nCatholics and non-Catholics are welcome to attend. \nJoin us every Monday 10:00am – 12:00pm
URL:https://sawv.ca/event/catholic-faith-in-plain-english-2-4/2026-07-20/
CATEGORIES:Catholic Faith in Plain English
ATTACH;FMTTYPE=image/jpeg:https://sawv.ca/wp-content/uploads/2024/07/tim-wildsmith-kn6uepbHKYU-unsplash-scaled.jpg
END:VEVENT
BEGIN:VEVENT
DTSTART;TZID=America/Los_Angeles:20260727T100000
DTEND;TZID=America/Los_Angeles:20260727T120000
DTSTAMP:20260419T080324
CREATED:20250922T171048Z
LAST-MODIFIED:20251213T014046Z
UID:10010945-1785146400-1785153600@sawv.ca
SUMMARY:Catholic Faith in Plain English
DESCRIPTION:A free\, no pressure\, plain English 36 week course taught by Fr. Hawkswell and Maureen Creelman. \nCatholics and non-Catholics are welcome to attend. \nJoin us every Monday 10:00am – 12:00pm
URL:https://sawv.ca/event/catholic-faith-in-plain-english-2-4/2026-07-27/
CATEGORIES:Catholic Faith in Plain English
ATTACH;FMTTYPE=image/jpeg:https://sawv.ca/wp-content/uploads/2024/07/tim-wildsmith-kn6uepbHKYU-unsplash-scaled.jpg
END:VEVENT
BEGIN:VEVENT
DTSTART;TZID=America/Los_Angeles:20260803T100000
DTEND;TZID=America/Los_Angeles:20260803T120000
DTSTAMP:20260419T080324
CREATED:20250922T171048Z
LAST-MODIFIED:20251213T014046Z
UID:10010946-1785751200-1785758400@sawv.ca
SUMMARY:Catholic Faith in Plain English
DESCRIPTION:A free\, no pressure\, plain English 36 week course taught by Fr. Hawkswell and Maureen Creelman. \nCatholics and non-Catholics are welcome to attend. \nJoin us every Monday 10:00am – 12:00pm
URL:https://sawv.ca/event/catholic-faith-in-plain-english-2-4/2026-08-03/
CATEGORIES:Catholic Faith in Plain English
ATTACH;FMTTYPE=image/jpeg:https://sawv.ca/wp-content/uploads/2024/07/tim-wildsmith-kn6uepbHKYU-unsplash-scaled.jpg
END:VEVENT
BEGIN:VEVENT
DTSTART;TZID=America/Los_Angeles:20260810T100000
DTEND;TZID=America/Los_Angeles:20260810T120000
DTSTAMP:20260419T080324
CREATED:20250922T171048Z
LAST-MODIFIED:20251213T014046Z
UID:10010947-1786356000-1786363200@sawv.ca
SUMMARY:Catholic Faith in Plain English
DESCRIPTION:A free\, no pressure\, plain English 36 week course taught by Fr. Hawkswell and Maureen Creelman. \nCatholics and non-Catholics are welcome to attend. \nJoin us every Monday 10:00am – 12:00pm
URL:https://sawv.ca/event/catholic-faith-in-plain-english-2-4/2026-08-10/
CATEGORIES:Catholic Faith in Plain English
ATTACH;FMTTYPE=image/jpeg:https://sawv.ca/wp-content/uploads/2024/07/tim-wildsmith-kn6uepbHKYU-unsplash-scaled.jpg
END:VEVENT
BEGIN:VEVENT
DTSTART;TZID=America/Los_Angeles:20260817T100000
DTEND;TZID=America/Los_Angeles:20260817T120000
DTSTAMP:20260419T080324
CREATED:20250922T171048Z
LAST-MODIFIED:20251213T014046Z
UID:10010948-1786960800-1786968000@sawv.ca
SUMMARY:Catholic Faith in Plain English
DESCRIPTION:A free\, no pressure\, plain English 36 week course taught by Fr. Hawkswell and Maureen Creelman. \nCatholics and non-Catholics are welcome to attend. \nJoin us every Monday 10:00am – 12:00pm
URL:https://sawv.ca/event/catholic-faith-in-plain-english-2-4/2026-08-17/
CATEGORIES:Catholic Faith in Plain English
ATTACH;FMTTYPE=image/jpeg:https://sawv.ca/wp-content/uploads/2024/07/tim-wildsmith-kn6uepbHKYU-unsplash-scaled.jpg
END:VEVENT
BEGIN:VEVENT
DTSTART;TZID=America/Los_Angeles:20260824T100000
DTEND;TZID=America/Los_Angeles:20260824T120000
DTSTAMP:20260419T080324
CREATED:20250922T171048Z
LAST-MODIFIED:20251213T014046Z
UID:10010949-1787565600-1787572800@sawv.ca
SUMMARY:Catholic Faith in Plain English
DESCRIPTION:A free\, no pressure\, plain English 36 week course taught by Fr. Hawkswell and Maureen Creelman. \nCatholics and non-Catholics are welcome to attend. \nJoin us every Monday 10:00am – 12:00pm
URL:https://sawv.ca/event/catholic-faith-in-plain-english-2-4/2026-08-24/
CATEGORIES:Catholic Faith in Plain English
ATTACH;FMTTYPE=image/jpeg:https://sawv.ca/wp-content/uploads/2024/07/tim-wildsmith-kn6uepbHKYU-unsplash-scaled.jpg
END:VEVENT
BEGIN:VEVENT
DTSTART;TZID=America/Los_Angeles:20260831T100000
DTEND;TZID=America/Los_Angeles:20260831T120000
DTSTAMP:20260419T080324
CREATED:20250922T171048Z
LAST-MODIFIED:20251213T014046Z
UID:10010950-1788170400-1788177600@sawv.ca
SUMMARY:Catholic Faith in Plain English
DESCRIPTION:A free\, no pressure\, plain English 36 week course taught by Fr. Hawkswell and Maureen Creelman. \nCatholics and non-Catholics are welcome to attend. \nJoin us every Monday 10:00am – 12:00pm
URL:https://sawv.ca/event/catholic-faith-in-plain-english-2-4/2026-08-31/
CATEGORIES:Catholic Faith in Plain English
ATTACH;FMTTYPE=image/jpeg:https://sawv.ca/wp-content/uploads/2024/07/tim-wildsmith-kn6uepbHKYU-unsplash-scaled.jpg
END:VEVENT
BEGIN:VEVENT
DTSTART;TZID=America/Los_Angeles:20260907T100000
DTEND;TZID=America/Los_Angeles:20260907T120000
DTSTAMP:20260419T080324
CREATED:20250922T171048Z
LAST-MODIFIED:20251213T014046Z
UID:10010951-1788775200-1788782400@sawv.ca
SUMMARY:Catholic Faith in Plain English
DESCRIPTION:A free\, no pressure\, plain English 36 week course taught by Fr. Hawkswell and Maureen Creelman. \nCatholics and non-Catholics are welcome to attend. \nJoin us every Monday 10:00am – 12:00pm
URL:https://sawv.ca/event/catholic-faith-in-plain-english-2-4/2026-09-07/
CATEGORIES:Catholic Faith in Plain English
ATTACH;FMTTYPE=image/jpeg:https://sawv.ca/wp-content/uploads/2024/07/tim-wildsmith-kn6uepbHKYU-unsplash-scaled.jpg
END:VEVENT
BEGIN:VEVENT
DTSTART;TZID=America/Los_Angeles:20260914T100000
DTEND;TZID=America/Los_Angeles:20260914T120000
DTSTAMP:20260419T080324
CREATED:20250922T171048Z
LAST-MODIFIED:20251213T014046Z
UID:10010952-1789380000-1789387200@sawv.ca
SUMMARY:Catholic Faith in Plain English
DESCRIPTION:A free\, no pressure\, plain English 36 week course taught by Fr. Hawkswell and Maureen Creelman. \nCatholics and non-Catholics are welcome to attend. \nJoin us every Monday 10:00am – 12:00pm
URL:https://sawv.ca/event/catholic-faith-in-plain-english-2-4/2026-09-14/
CATEGORIES:Catholic Faith in Plain English
ATTACH;FMTTYPE=image/jpeg:https://sawv.ca/wp-content/uploads/2024/07/tim-wildsmith-kn6uepbHKYU-unsplash-scaled.jpg
END:VEVENT
BEGIN:VEVENT
DTSTART;TZID=America/Los_Angeles:20260921T100000
DTEND;TZID=America/Los_Angeles:20260921T120000
DTSTAMP:20260419T080324
CREATED:20250922T171048Z
LAST-MODIFIED:20251213T014046Z
UID:10010953-1789984800-1789992000@sawv.ca
SUMMARY:Catholic Faith in Plain English
DESCRIPTION:A free\, no pressure\, plain English 36 week course taught by Fr. Hawkswell and Maureen Creelman. \nCatholics and non-Catholics are welcome to attend. \nJoin us every Monday 10:00am – 12:00pm
URL:https://sawv.ca/event/catholic-faith-in-plain-english-2-4/2026-09-21/
CATEGORIES:Catholic Faith in Plain English
ATTACH;FMTTYPE=image/jpeg:https://sawv.ca/wp-content/uploads/2024/07/tim-wildsmith-kn6uepbHKYU-unsplash-scaled.jpg
END:VEVENT
BEGIN:VEVENT
DTSTART;TZID=America/Los_Angeles:20260928T100000
DTEND;TZID=America/Los_Angeles:20260928T120000
DTSTAMP:20260419T080324
CREATED:20250922T171048Z
LAST-MODIFIED:20251213T014046Z
UID:10010954-1790589600-1790596800@sawv.ca
SUMMARY:Catholic Faith in Plain English
DESCRIPTION:A free\, no pressure\, plain English 36 week course taught by Fr. Hawkswell and Maureen Creelman. \nCatholics and non-Catholics are welcome to attend. \nJoin us every Monday 10:00am – 12:00pm
URL:https://sawv.ca/event/catholic-faith-in-plain-english-2-4/2026-09-28/
CATEGORIES:Catholic Faith in Plain English
ATTACH;FMTTYPE=image/jpeg:https://sawv.ca/wp-content/uploads/2024/07/tim-wildsmith-kn6uepbHKYU-unsplash-scaled.jpg
END:VEVENT
BEGIN:VEVENT
DTSTART;TZID=America/Los_Angeles:20261005T100000
DTEND;TZID=America/Los_Angeles:20261005T120000
DTSTAMP:20260419T080324
CREATED:20250922T171048Z
LAST-MODIFIED:20251213T014046Z
UID:10010955-1791194400-1791201600@sawv.ca
SUMMARY:Catholic Faith in Plain English
DESCRIPTION:A free\, no pressure\, plain English 36 week course taught by Fr. Hawkswell and Maureen Creelman. \nCatholics and non-Catholics are welcome to attend. \nJoin us every Monday 10:00am – 12:00pm
URL:https://sawv.ca/event/catholic-faith-in-plain-english-2-4/2026-10-05/
CATEGORIES:Catholic Faith in Plain English
ATTACH;FMTTYPE=image/jpeg:https://sawv.ca/wp-content/uploads/2024/07/tim-wildsmith-kn6uepbHKYU-unsplash-scaled.jpg
END:VEVENT
BEGIN:VEVENT
DTSTART;TZID=America/Los_Angeles:20261012T100000
DTEND;TZID=America/Los_Angeles:20261012T120000
DTSTAMP:20260419T080324
CREATED:20250922T171048Z
LAST-MODIFIED:20251213T014046Z
UID:10010956-1791799200-1791806400@sawv.ca
SUMMARY:Catholic Faith in Plain English
DESCRIPTION:A free\, no pressure\, plain English 36 week course taught by Fr. Hawkswell and Maureen Creelman. \nCatholics and non-Catholics are welcome to attend. \nJoin us every Monday 10:00am – 12:00pm
URL:https://sawv.ca/event/catholic-faith-in-plain-english-2-4/2026-10-12/
CATEGORIES:Catholic Faith in Plain English
ATTACH;FMTTYPE=image/jpeg:https://sawv.ca/wp-content/uploads/2024/07/tim-wildsmith-kn6uepbHKYU-unsplash-scaled.jpg
END:VEVENT
BEGIN:VEVENT
DTSTART;TZID=America/Los_Angeles:20261019T100000
DTEND;TZID=America/Los_Angeles:20261019T120000
DTSTAMP:20260419T080324
CREATED:20250922T171048Z
LAST-MODIFIED:20251213T014046Z
UID:10010957-1792404000-1792411200@sawv.ca
SUMMARY:Catholic Faith in Plain English
DESCRIPTION:A free\, no pressure\, plain English 36 week course taught by Fr. Hawkswell and Maureen Creelman. \nCatholics and non-Catholics are welcome to attend. \nJoin us every Monday 10:00am – 12:00pm
URL:https://sawv.ca/event/catholic-faith-in-plain-english-2-4/2026-10-19/
CATEGORIES:Catholic Faith in Plain English
ATTACH;FMTTYPE=image/jpeg:https://sawv.ca/wp-content/uploads/2024/07/tim-wildsmith-kn6uepbHKYU-unsplash-scaled.jpg
END:VEVENT
BEGIN:VEVENT
DTSTART;TZID=America/Los_Angeles:20261026T100000
DTEND;TZID=America/Los_Angeles:20261026T120000
DTSTAMP:20260419T080324
CREATED:20250922T171048Z
LAST-MODIFIED:20251213T014046Z
UID:10010958-1793008800-1793016000@sawv.ca
SUMMARY:Catholic Faith in Plain English
DESCRIPTION:A free\, no pressure\, plain English 36 week course taught by Fr. Hawkswell and Maureen Creelman. \nCatholics and non-Catholics are welcome to attend. \nJoin us every Monday 10:00am – 12:00pm
URL:https://sawv.ca/event/catholic-faith-in-plain-english-2-4/2026-10-26/
CATEGORIES:Catholic Faith in Plain English
ATTACH;FMTTYPE=image/jpeg:https://sawv.ca/wp-content/uploads/2024/07/tim-wildsmith-kn6uepbHKYU-unsplash-scaled.jpg
END:VEVENT
BEGIN:VEVENT
DTSTART;TZID=America/Los_Angeles:20261102T100000
DTEND;TZID=America/Los_Angeles:20261102T120000
DTSTAMP:20260419T080324
CREATED:20250922T171048Z
LAST-MODIFIED:20251213T014046Z
UID:10010959-1793613600-1793620800@sawv.ca
SUMMARY:Catholic Faith in Plain English
DESCRIPTION:A free\, no pressure\, plain English 36 week course taught by Fr. Hawkswell and Maureen Creelman. \nCatholics and non-Catholics are welcome to attend. \nJoin us every Monday 10:00am – 12:00pm
URL:https://sawv.ca/event/catholic-faith-in-plain-english-2-4/2026-11-02/
CATEGORIES:Catholic Faith in Plain English
ATTACH;FMTTYPE=image/jpeg:https://sawv.ca/wp-content/uploads/2024/07/tim-wildsmith-kn6uepbHKYU-unsplash-scaled.jpg
END:VEVENT
BEGIN:VEVENT
DTSTART;TZID=America/Los_Angeles:20261109T100000
DTEND;TZID=America/Los_Angeles:20261109T120000
DTSTAMP:20260419T080324
CREATED:20250922T171048Z
LAST-MODIFIED:20251213T014046Z
UID:10010960-1794218400-1794225600@sawv.ca
SUMMARY:Catholic Faith in Plain English
DESCRIPTION:A free\, no pressure\, plain English 36 week course taught by Fr. Hawkswell and Maureen Creelman. \nCatholics and non-Catholics are welcome to attend. \nJoin us every Monday 10:00am – 12:00pm
URL:https://sawv.ca/event/catholic-faith-in-plain-english-2-4/2026-11-09/
CATEGORIES:Catholic Faith in Plain English
ATTACH;FMTTYPE=image/jpeg:https://sawv.ca/wp-content/uploads/2024/07/tim-wildsmith-kn6uepbHKYU-unsplash-scaled.jpg
END:VEVENT
END:VCALENDAR