BEGIN:VCALENDAR
VERSION:2.0
PRODID:-//St. Anthony&#039;s Parish - ECPv6.15.18//NONSGML v1.0//EN
CALSCALE:GREGORIAN
METHOD:PUBLISH
X-WR-CALNAME:St. Anthony&#039;s Parish
X-ORIGINAL-URL:https://sawv.ca
X-WR-CALDESC:Events for St. Anthony&#039;s Parish
REFRESH-INTERVAL;VALUE=DURATION:PT1H
X-Robots-Tag:noindex
X-PUBLISHED-TTL:PT1H
BEGIN:VTIMEZONE
TZID:America/Los_Angeles
BEGIN:DAYLIGHT
TZOFFSETFROM:-0800
TZOFFSETTO:-0700
TZNAME:PDT
DTSTART:20240310T100000
END:DAYLIGHT
BEGIN:STANDARD
TZOFFSETFROM:-0700
TZOFFSETTO:-0800
TZNAME:PST
DTSTART:20241103T090000
END:STANDARD
BEGIN:DAYLIGHT
TZOFFSETFROM:-0800
TZOFFSETTO:-0700
TZNAME:PDT
DTSTART:20250309T100000
END:DAYLIGHT
BEGIN:STANDARD
TZOFFSETFROM:-0700
TZOFFSETTO:-0800
TZNAME:PST
DTSTART:20251102T090000
END:STANDARD
BEGIN:DAYLIGHT
TZOFFSETFROM:-0800
TZOFFSETTO:-0700
TZNAME:PDT
DTSTART:20260308T100000
END:DAYLIGHT
BEGIN:STANDARD
TZOFFSETFROM:-0700
TZOFFSETTO:-0800
TZNAME:PST
DTSTART:20261101T090000
END:STANDARD
END:VTIMEZONE
BEGIN:VEVENT
DTSTART;VALUE=DATE:20251102
DTEND;VALUE=DATE:20251103
DTSTAMP:20260419T092413
CREATED:20250206T031847Z
LAST-MODIFIED:20250206T031847Z
UID:10009255-1762041600-1762127999@sawv.ca
SUMMARY:Second Collection - Peter’s Pence
DESCRIPTION:Support offered to the Holy Father as a sign of sharing in the concern of the Pope for the many different needs of the Universal Church and for the relief of those most in need. \nNational Collection\nFirst Sunday in November
URL:https://sawv.ca/event/second-collection-peters-pence/
CATEGORIES:Second Collection
END:VEVENT
BEGIN:VEVENT
DTSTART;VALUE=DATE:20251116
DTEND;VALUE=DATE:20251117
DTSTAMP:20260419T092413
CREATED:20250206T031954Z
LAST-MODIFIED:20250206T031954Z
UID:10009256-1763251200-1763337599@sawv.ca
SUMMARY:Second Collection - Home Missions
DESCRIPTION:To support the 12 Catholic missions in First Nations communities throughout the Archdiocese\, and the Apostleship of the Sea serving seafarers who work on ships that visit Vancouver harbour. \nArchdiocesan Collection\nThird Sunday in November
URL:https://sawv.ca/event/second-collection-home-missions/
CATEGORIES:Second Collection
END:VEVENT
END:VCALENDAR