BEGIN:VCALENDAR
VERSION:2.0
PRODID:-//St. Anthony&#039;s Parish - ECPv6.15.18//NONSGML v1.0//EN
CALSCALE:GREGORIAN
METHOD:PUBLISH
X-ORIGINAL-URL:https://sawv.ca
X-WR-CALDESC:Events for St. Anthony&#039;s Parish
REFRESH-INTERVAL;VALUE=DURATION:PT1H
X-Robots-Tag:noindex
X-PUBLISHED-TTL:PT1H
BEGIN:VTIMEZONE
TZID:America/Los_Angeles
BEGIN:DAYLIGHT
TZOFFSETFROM:-0800
TZOFFSETTO:-0700
TZNAME:PDT
DTSTART:20240310T100000
END:DAYLIGHT
BEGIN:STANDARD
TZOFFSETFROM:-0700
TZOFFSETTO:-0800
TZNAME:PST
DTSTART:20241103T090000
END:STANDARD
BEGIN:DAYLIGHT
TZOFFSETFROM:-0800
TZOFFSETTO:-0700
TZNAME:PDT
DTSTART:20250309T100000
END:DAYLIGHT
BEGIN:STANDARD
TZOFFSETFROM:-0700
TZOFFSETTO:-0800
TZNAME:PST
DTSTART:20251102T090000
END:STANDARD
BEGIN:DAYLIGHT
TZOFFSETFROM:-0800
TZOFFSETTO:-0700
TZNAME:PDT
DTSTART:20260308T100000
END:DAYLIGHT
BEGIN:STANDARD
TZOFFSETFROM:-0700
TZOFFSETTO:-0800
TZNAME:PST
DTSTART:20261101T090000
END:STANDARD
END:VTIMEZONE
BEGIN:VEVENT
DTSTART;VALUE=DATE:20251019
DTEND;VALUE=DATE:20251020
DTSTAMP:20260419T105547
CREATED:20250206T031729Z
LAST-MODIFIED:20250206T031729Z
UID:10009254-1760832000-1760918399@sawv.ca
SUMMARY:Second Collection - World Mission Sunday (Evangelization of the Nations)
DESCRIPTION:To help the Society for the Propagation of the Faith assist missionary bishops and dioceses throughout the world. \nNational Collection\nSecond Last Sunday in October
URL:https://sawv.ca/event/second-collection-world-mission-sunday-evangelization-of-the-nations/
CATEGORIES:Second Collection
END:VEVENT
END:VCALENDAR