BEGIN:VCALENDAR
VERSION:2.0
PRODID:-//St. Anthony&#039;s Parish - ECPv6.15.18//NONSGML v1.0//EN
CALSCALE:GREGORIAN
METHOD:PUBLISH
X-ORIGINAL-URL:https://sawv.ca
X-WR-CALDESC:Events for St. Anthony&#039;s Parish
REFRESH-INTERVAL;VALUE=DURATION:PT1H
X-Robots-Tag:noindex
X-PUBLISHED-TTL:PT1H
BEGIN:VTIMEZONE
TZID:America/Los_Angeles
BEGIN:DAYLIGHT
TZOFFSETFROM:-0800
TZOFFSETTO:-0700
TZNAME:PDT
DTSTART:20240310T100000
END:DAYLIGHT
BEGIN:STANDARD
TZOFFSETFROM:-0700
TZOFFSETTO:-0800
TZNAME:PST
DTSTART:20241103T090000
END:STANDARD
BEGIN:DAYLIGHT
TZOFFSETFROM:-0800
TZOFFSETTO:-0700
TZNAME:PDT
DTSTART:20250309T100000
END:DAYLIGHT
BEGIN:STANDARD
TZOFFSETFROM:-0700
TZOFFSETTO:-0800
TZNAME:PST
DTSTART:20251102T090000
END:STANDARD
BEGIN:DAYLIGHT
TZOFFSETFROM:-0800
TZOFFSETTO:-0700
TZNAME:PDT
DTSTART:20260308T100000
END:DAYLIGHT
BEGIN:STANDARD
TZOFFSETFROM:-0700
TZOFFSETTO:-0800
TZNAME:PST
DTSTART:20261101T090000
END:STANDARD
END:VTIMEZONE
BEGIN:VEVENT
DTSTART;VALUE=DATE:20250914
DTEND;VALUE=DATE:20250915
DTSTAMP:20260419T122655
CREATED:20250206T031529Z
LAST-MODIFIED:20250206T031529Z
UID:10009252-1757808000-1757894399@sawv.ca
SUMMARY:Second Collection - Healing and Reconciliation
DESCRIPTION:To support healing and reconciliation between Indigenous and non-Indigenous people in our province. \nArchdiocesan Collection\nSecond Sunday in September
URL:https://sawv.ca/event/second-collection-healing-and-reconciliation/
CATEGORIES:Second Collection
END:VEVENT
BEGIN:VEVENT
DTSTART;VALUE=DATE:20250928
DTEND;VALUE=DATE:20250929
DTSTAMP:20260419T122655
CREATED:20250206T031621Z
LAST-MODIFIED:20250206T031621Z
UID:10009253-1759017600-1759103999@sawv.ca
SUMMARY:Second Collection - Needs of the Church in Canada
DESCRIPTION:To support the work of the Canadian Conference of Catholic Bishops. \nNational Collection\nLast Sunday in September
URL:https://sawv.ca/event/second-collection-needs-of-the-church-in-canada/
CATEGORIES:Second Collection
END:VEVENT
END:VCALENDAR