BEGIN:VCALENDAR
VERSION:2.0
PRODID:-//St. Anthony&#039;s Parish - ECPv6.15.18//NONSGML v1.0//EN
CALSCALE:GREGORIAN
METHOD:PUBLISH
X-ORIGINAL-URL:https://sawv.ca
X-WR-CALDESC:Events for St. Anthony&#039;s Parish
REFRESH-INTERVAL;VALUE=DURATION:PT1H
X-Robots-Tag:noindex
X-PUBLISHED-TTL:PT1H
BEGIN:VTIMEZONE
TZID:America/Los_Angeles
BEGIN:DAYLIGHT
TZOFFSETFROM:-0800
TZOFFSETTO:-0700
TZNAME:PDT
DTSTART:20240310T100000
END:DAYLIGHT
BEGIN:STANDARD
TZOFFSETFROM:-0700
TZOFFSETTO:-0800
TZNAME:PST
DTSTART:20241103T090000
END:STANDARD
BEGIN:DAYLIGHT
TZOFFSETFROM:-0800
TZOFFSETTO:-0700
TZNAME:PDT
DTSTART:20250309T100000
END:DAYLIGHT
BEGIN:STANDARD
TZOFFSETFROM:-0700
TZOFFSETTO:-0800
TZNAME:PST
DTSTART:20251102T090000
END:STANDARD
BEGIN:DAYLIGHT
TZOFFSETFROM:-0800
TZOFFSETTO:-0700
TZNAME:PDT
DTSTART:20260308T100000
END:DAYLIGHT
BEGIN:STANDARD
TZOFFSETFROM:-0700
TZOFFSETTO:-0800
TZNAME:PST
DTSTART:20261101T090000
END:STANDARD
END:VTIMEZONE
BEGIN:VEVENT
DTSTART;VALUE=DATE:20250601
DTEND;VALUE=DATE:20250602
DTSTAMP:20260419T164014
CREATED:20250206T031312Z
LAST-MODIFIED:20250206T031312Z
UID:10009250-1748736000-1748822399@sawv.ca
SUMMARY:Second Collection - Catholic Missions in Canada
DESCRIPTION:To provide support for over 600 remote and poor mission communities across Canada. \nNational Collection\nFirst Sunday in June
URL:https://sawv.ca/event/second-collection-catholic-missions-in-canada/
CATEGORIES:Second Collection
END:VEVENT
BEGIN:VEVENT
DTSTART;VALUE=DATE:20250615
DTEND;VALUE=DATE:20250616
DTSTAMP:20260419T164014
CREATED:20250206T031402Z
LAST-MODIFIED:20250206T031414Z
UID:10009251-1749945600-1750031999@sawv.ca
SUMMARY:Second Collection - Pro-Life Sunday
DESCRIPTION:To help support the life-affirming work of pro-life groups in our diocese. \nArchdiocesan Collection\nThird Sunday in June
URL:https://sawv.ca/event/second-collection-pro-life-sunday/
CATEGORIES:Second Collection
END:VEVENT
END:VCALENDAR