BEGIN:VCALENDAR
VERSION:2.0
PRODID:-//St. Anthony&#039;s Parish - ECPv6.15.18//NONSGML v1.0//EN
CALSCALE:GREGORIAN
METHOD:PUBLISH
X-WR-CALNAME:St. Anthony&#039;s Parish
X-ORIGINAL-URL:https://sawv.ca
X-WR-CALDESC:Events for St. Anthony&#039;s Parish
REFRESH-INTERVAL;VALUE=DURATION:PT1H
X-Robots-Tag:noindex
X-PUBLISHED-TTL:PT1H
BEGIN:VTIMEZONE
TZID:America/Los_Angeles
BEGIN:DAYLIGHT
TZOFFSETFROM:-0800
TZOFFSETTO:-0700
TZNAME:PDT
DTSTART:20240310T100000
END:DAYLIGHT
BEGIN:STANDARD
TZOFFSETFROM:-0700
TZOFFSETTO:-0800
TZNAME:PST
DTSTART:20241103T090000
END:STANDARD
BEGIN:DAYLIGHT
TZOFFSETFROM:-0800
TZOFFSETTO:-0700
TZNAME:PDT
DTSTART:20250309T100000
END:DAYLIGHT
BEGIN:STANDARD
TZOFFSETFROM:-0700
TZOFFSETTO:-0800
TZNAME:PST
DTSTART:20251102T090000
END:STANDARD
BEGIN:DAYLIGHT
TZOFFSETFROM:-0800
TZOFFSETTO:-0700
TZNAME:PDT
DTSTART:20260308T100000
END:DAYLIGHT
BEGIN:STANDARD
TZOFFSETFROM:-0700
TZOFFSETTO:-0800
TZNAME:PST
DTSTART:20261101T090000
END:STANDARD
END:VTIMEZONE
BEGIN:VEVENT
DTSTART;VALUE=DATE:20250511
DTEND;VALUE=DATE:20250512
DTSTAMP:20260419T180700
CREATED:20250206T031003Z
LAST-MODIFIED:20250206T031003Z
UID:10009248-1746921600-1747007999@sawv.ca
SUMMARY:Second Collection - Work of Vocations
DESCRIPTION:To support seminarians studying to become priests for the Archdiocese of Vancouver. \n\nArchdiocesan Collection\nFourth Sunday of Easter
URL:https://sawv.ca/event/second-collection-work-of-vocations/
CATEGORIES:Second Collection
END:VEVENT
BEGIN:VEVENT
DTSTART;VALUE=DATE:20250525
DTEND;VALUE=DATE:20250526
DTSTAMP:20260419T180701
CREATED:20250206T031136Z
LAST-MODIFIED:20250206T031136Z
UID:10009249-1748131200-1748217599@sawv.ca
SUMMARY:Second Collection - The Pope’s Pastoral Works
DESCRIPTION:To contribute to the financial aid offered by the Holy Father to people stricken by natural disasters. \nNational Collection\nSixth Sunday of Easter
URL:https://sawv.ca/event/second-collection-the-popes-pastoral-works/
CATEGORIES:Second Collection
END:VEVENT
END:VCALENDAR