BEGIN:VCALENDAR
VERSION:2.0
PRODID:-//St. Anthony&#039;s Parish - ECPv6.15.18//NONSGML v1.0//EN
CALSCALE:GREGORIAN
METHOD:PUBLISH
X-ORIGINAL-URL:https://sawv.ca
X-WR-CALDESC:Events for St. Anthony&#039;s Parish
REFRESH-INTERVAL;VALUE=DURATION:PT1H
X-Robots-Tag:noindex
X-PUBLISHED-TTL:PT1H
BEGIN:VTIMEZONE
TZID:America/Los_Angeles
BEGIN:DAYLIGHT
TZOFFSETFROM:-0800
TZOFFSETTO:-0700
TZNAME:PDT
DTSTART:20240310T100000
END:DAYLIGHT
BEGIN:STANDARD
TZOFFSETFROM:-0700
TZOFFSETTO:-0800
TZNAME:PST
DTSTART:20241103T090000
END:STANDARD
BEGIN:DAYLIGHT
TZOFFSETFROM:-0800
TZOFFSETTO:-0700
TZNAME:PDT
DTSTART:20250309T100000
END:DAYLIGHT
BEGIN:STANDARD
TZOFFSETFROM:-0700
TZOFFSETTO:-0800
TZNAME:PST
DTSTART:20251102T090000
END:STANDARD
BEGIN:DAYLIGHT
TZOFFSETFROM:-0800
TZOFFSETTO:-0700
TZNAME:PDT
DTSTART:20260308T100000
END:DAYLIGHT
BEGIN:STANDARD
TZOFFSETFROM:-0700
TZOFFSETTO:-0800
TZNAME:PST
DTSTART:20261101T090000
END:STANDARD
END:VTIMEZONE
BEGIN:VEVENT
DTSTART;VALUE=DATE:20250406
DTEND;VALUE=DATE:20250407
DTSTAMP:20260419T194753
CREATED:20250206T030551Z
LAST-MODIFIED:20250206T030551Z
UID:10009246-1743897600-1743983999@sawv.ca
SUMMARY:Second Collection - Share Lent
DESCRIPTION:To help the Canadian Catholic Organization for Development and Peace fight poverty in third-world countries and foster international justice. \n\nNational Collection\nFifth Sunday of Lent
URL:https://sawv.ca/event/second-collection-share-lent/
CATEGORIES:Second Collection
END:VEVENT
END:VCALENDAR