BEGIN:VCALENDAR
VERSION:2.0
PRODID:-//St. Anthony&#039;s Parish - ECPv6.15.18//NONSGML v1.0//EN
CALSCALE:GREGORIAN
METHOD:PUBLISH
X-WR-CALNAME:St. Anthony&#039;s Parish
X-ORIGINAL-URL:https://sawv.ca
X-WR-CALDESC:Events for St. Anthony&#039;s Parish
REFRESH-INTERVAL;VALUE=DURATION:PT1H
X-Robots-Tag:noindex
X-PUBLISHED-TTL:PT1H
BEGIN:VTIMEZONE
TZID:America/Los_Angeles
BEGIN:DAYLIGHT
TZOFFSETFROM:-0800
TZOFFSETTO:-0700
TZNAME:PDT
DTSTART:20250309T100000
END:DAYLIGHT
BEGIN:STANDARD
TZOFFSETFROM:-0700
TZOFFSETTO:-0800
TZNAME:PST
DTSTART:20251102T090000
END:STANDARD
BEGIN:DAYLIGHT
TZOFFSETFROM:-0800
TZOFFSETTO:-0700
TZNAME:PDT
DTSTART:20260308T100000
END:DAYLIGHT
BEGIN:STANDARD
TZOFFSETFROM:-0700
TZOFFSETTO:-0800
TZNAME:PST
DTSTART:20261101T090000
END:STANDARD
BEGIN:DAYLIGHT
TZOFFSETFROM:-0800
TZOFFSETTO:-0700
TZNAME:PDT
DTSTART:20270314T100000
END:DAYLIGHT
BEGIN:STANDARD
TZOFFSETFROM:-0700
TZOFFSETTO:-0800
TZNAME:PST
DTSTART:20271107T090000
END:STANDARD
END:VTIMEZONE
BEGIN:VEVENT
DTSTART;TZID=America/Los_Angeles:20260422T170000
DTEND;TZID=America/Los_Angeles:20260422T180000
DTSTAMP:20260422T014131
CREATED:20260404T004418Z
LAST-MODIFIED:20260404T004437Z
UID:10013033-1776877200-1776880800@sawv.ca
SUMMARY:RCIT
DESCRIPTION:Rite of Christian Initiation for Teens will start on: Wednesday\, Oct 8th @ 5:00 – 6:00 PM Location : The Sacristy at St Anthony’s Parish.\nIt will run weekly until the end of May 2026. For more information please contact prep@rcav.org if you would like to join this program!
URL:https://sawv.ca/event/rcit-2/2026-04-22/
ATTACH;FMTTYPE=image/png:https://sawv.ca/wp-content/uploads/2025/10/Screen-Shot-2025-10-04-at-8.18.36-AM.png
END:VEVENT
BEGIN:VEVENT
DTSTART;TZID=America/Los_Angeles:20260422T180000
DTEND;TZID=America/Los_Angeles:20260422T191500
DTSTAMP:20260422T014131
CREATED:20260327T234508Z
LAST-MODIFIED:20260404T003852Z
UID:10010409-1776880800-1776885300@sawv.ca
SUMMARY:PREP
DESCRIPTION:The goal of PREP (Parish Religious Education Program) is to assist parents in the religious education of children attending non-Catholic schools in Grades 2 to 7 and to prepare them to receive the Sacraments of Reconciliation and Eucharist in Grade 2 and Confirmation in Grade 7.
URL:https://sawv.ca/event/prep-2-2-2-2-2/2026-04-22/
CATEGORIES:PREP
ATTACH;FMTTYPE=image/png:https://sawv.ca/wp-content/uploads/2025/08/Screen-Shot-2025-08-23-at-5.43.34-PM.png
END:VEVENT
END:VCALENDAR