BEGIN:VCALENDAR
VERSION:2.0
PRODID:-//St. Anthony&#039;s Parish - ECPv6.15.18//NONSGML v1.0//EN
CALSCALE:GREGORIAN
METHOD:PUBLISH
X-WR-CALNAME:St. Anthony&#039;s Parish
X-ORIGINAL-URL:https://sawv.ca
X-WR-CALDESC:Events for St. Anthony&#039;s Parish
REFRESH-INTERVAL;VALUE=DURATION:PT1H
X-Robots-Tag:noindex
X-PUBLISHED-TTL:PT1H
BEGIN:VTIMEZONE
TZID:America/Los_Angeles
BEGIN:DAYLIGHT
TZOFFSETFROM:-0800
TZOFFSETTO:-0700
TZNAME:PDT
DTSTART:20250309T100000
END:DAYLIGHT
BEGIN:STANDARD
TZOFFSETFROM:-0700
TZOFFSETTO:-0800
TZNAME:PST
DTSTART:20251102T090000
END:STANDARD
BEGIN:DAYLIGHT
TZOFFSETFROM:-0800
TZOFFSETTO:-0700
TZNAME:PDT
DTSTART:20260308T100000
END:DAYLIGHT
BEGIN:STANDARD
TZOFFSETFROM:-0700
TZOFFSETTO:-0800
TZNAME:PST
DTSTART:20261101T090000
END:STANDARD
BEGIN:DAYLIGHT
TZOFFSETFROM:-0800
TZOFFSETTO:-0700
TZNAME:PDT
DTSTART:20270314T100000
END:DAYLIGHT
BEGIN:STANDARD
TZOFFSETFROM:-0700
TZOFFSETTO:-0800
TZNAME:PST
DTSTART:20271107T090000
END:STANDARD
END:VTIMEZONE
BEGIN:VEVENT
DTSTART;TZID=America/Los_Angeles:20260421T093000
DTEND;TZID=America/Los_Angeles:20260421T103000
DTSTAMP:20260421T020958
CREATED:20260111T033447Z
LAST-MODIFIED:20260412T013321Z
UID:10011906-1776763800-1776767400@sawv.ca
SUMMARY:CWL Meeting
DESCRIPTION:Tuesday\, April 21\, after 9:00 AM Mass Location: Parish Hall  \n• ST. ANTHONY’S CWL BURSARY  \nApplication deadline: April 30\, 2026 Do you know any children starting Catholic high school in September? St. Anthony’s CWL will be giving a bursary to one student graduating from St. Anthony’s School and one student from PREP. The student must be a parishioner of St. Anthony’s Parish. For more information please find the complete Application Form pinned in the bulletin board outside the office.  \n• NORTH SHORE CWL BURSARY  \nApplication deadline: April 30\, 2026 One Bursary of $1\,000 for students entering their first year of post-secondary studies will be awarded to the son\, daughter\, grandson\, granddaughter\, nephew or niece of a CWL member of one of the participating North Shore councils Complete application Forms are posted on the bulletin board along with eligibility criteria. 
URL:https://sawv.ca/event/cwl-membership-renewal/
ATTACH;FMTTYPE=image/png:https://sawv.ca/wp-content/uploads/2025/01/Screen-Shot-2025-01-05-at-8.31.23-PM.png
END:VEVENT
BEGIN:VEVENT
DTSTART;TZID=America/Los_Angeles:20260421T183000
DTEND;TZID=America/Los_Angeles:20260421T193000
DTSTAMP:20260421T020958
CREATED:20260404T003701Z
LAST-MODIFIED:20260404T003754Z
UID:10012772-1776796200-1776799800@sawv.ca
SUMMARY:RCIA
DESCRIPTION:Join us every Tuesday @ 6:30 PM at the Parish Hall. \nDo you know anyone who is inquiring about the faith? RCIA may be for them! \nFor more information contact Fr. Arsene or Elizabeth Holman : elizabeth.sawv@gmail.com
URL:https://sawv.ca/event/rcia-2/2026-04-21/
ATTACH;FMTTYPE=image/jpeg:https://sawv.ca/wp-content/uploads/2023/11/CCO-1.jpg
END:VEVENT
BEGIN:VEVENT
DTSTART;TZID=America/Los_Angeles:20260421T190000
DTEND;TZID=America/Los_Angeles:20260421T200000
DTSTAMP:20260421T020958
CREATED:20250420T025641Z
LAST-MODIFIED:20251213T014253Z
UID:10009458-1776798000-1776801600@sawv.ca
SUMMARY:Christian Silent Meditation
DESCRIPTION:Starting date: Tuesday—September 23rd at 7:00 PM. \nThe weekly Saint Anthony’s Christian Meditation group will meet again! \nPre-recorded 10 minute talk by Benedictines Fr. John Main or Fr. Laurence Freeman\, a 25 minute silent meditation followed by time for questions and comments. For information contact JoAnn or Leo or visit http://wccm.org \n 
URL:https://sawv.ca/event/christian-silent-meditation-3-3/2026-04-21/
LOCATION:St Anthony’s Parish\, 2347 Inglewood Avenue\, West Vancouver\, British Columbia
CATEGORIES:Christian Silent Meditation
ATTACH;FMTTYPE=image/jpeg:https://sawv.ca/wp-content/uploads/2023/11/Canadian-Christian-Meditation-Community.jpeg
END:VEVENT
END:VCALENDAR